0.00000000000000
0.10000000000000
0.10000000000000
-0.00000000000000
688540.28562495904000
240925.82468080934000
