-0.00000000000000
-0.10000000000000
-0.10000000000000
0.00000000000000
689358.71437504096000
230809.17531919066000
