0.00000000000000
0.10000000000000
0.10000000000000
-0.00000000000000
687441.28562495904000
237331.82468080934000
