0.00000000000000
0.10000000000000
0.10000000000000
-0.00000000000000
687431.28562495904000
239068.82468080934000
