-0.00000000000000
-0.10000000000000
-0.10000000000000
0.00000000000000
689362.71437504096000
242922.17531919066000
