-0.00000000000000
-0.10000000000000
-0.10000000000000
0.00000000000000
689368.71437504096000
246641.17531919066000
