-0.00000000000000
-0.10000000000000
-0.10000000000000
0.00000000000000
689366.71437504096000
247165.17531919066000
