-0.00000000000000
-0.10000000000000
-0.10000000000000
0.00000000000000
689364.71437504096000
251347.17531919066000
