0.00000000000000
0.10000000000000
0.10000000000000
-0.00000000000000
686355.28562495904000
243927.82468080934000
