0.00000000000000
0.10000000000000
0.10000000000000
-0.00000000000000
686365.28562495904000
250176.82468080934000
