0.00000000000000
0.10000000000000
0.10000000000000
-0.00000000000000
685268.28562495904000
235203.82468080934000
