0.00000000000000
0.10000000000000
0.10000000000000
-0.00000000000000
685252.28562495904000
237453.82468080934000
