0.00000000000000
0.10000000000000
0.10000000000000
-0.00000000000000
685248.28562495904000
240116.82468080934000
