0.00000000000000
0.10000000000000
0.10000000000000
-0.00000000000000
685264.28562495904000
241949.82468080934000
