0.00000000000000
0.10000000000000
0.10000000000000
-0.00000000000000
685255.28562495904000
245270.82468080934000
