-0.00000000000000
-0.10000000000000
-0.10000000000000
0.00000000000000
687186.71437504096000
248235.17531919066000
