0.00000000000000
0.10000000000000
0.10000000000000
-0.00000000000000
684201.28562495904000
230985.82468080934000
