0.00000000000000
0.10000000000000
0.10000000000000
-0.00000000000000
684201.28562495904000
231574.82468080934000
