0.00000000000000
0.10000000000000
0.10000000000000
-0.00000000000000
684191.28562495904000
232114.82468080934000
