0.00000000000000
0.10000000000000
0.10000000000000
-0.00000000000000
684194.28562495904000
242912.82468080934000
