0.00000000000000
0.10000000000000
0.10000000000000
-0.00000000000000
683054.28562495904000
229538.82468080934000
