0.00000000000000
0.10000000000000
0.10000000000000
-0.00000000000000
683073.28562495904000
236634.82468080934000
