0.00000000000000
0.10000000000000
0.10000000000000
-0.00000000000000
683061.28562495904000
237197.82468080934000
