0.00000000000000
0.10000000000000
0.10000000000000
-0.00000000000000
683045.28562495904000
238424.82468080934000
