0.00000000000000
0.10000000000000
0.10000000000000
-0.00000000000000
683065.28562495904000
239587.82468080934000
