0.00000000000000
0.10000000000000
0.10000000000000
-0.00000000000000
683055.28562495904000
245278.82468080934000
