0.00000000000000
0.10000000000000
0.10000000000000
-0.00000000000000
683062.28562495904000
245837.82468080934000
