0.00000000000000
0.10000000000000
0.10000000000000
-0.00000000000000
683059.28562495904000
249508.82468080934000
