-0.00000000000000
-0.10000000000000
-0.10000000000000
0.00000000000000
683882.71437504096000
234006.17531919066000
