-0.00000000000000
-0.10000000000000
-0.10000000000000
0.00000000000000
683874.71437504096000
235218.17531919066000
