0.00000000000000
0.10000000000000
0.10000000000000
-0.00000000000000
681969.28562495904000
236508.82468080934000
