0.00000000000000
0.10000000000000
0.10000000000000
-0.00000000000000
681968.28562495904000
241220.82468080934000
