0.00000000000000
0.10000000000000
0.10000000000000
-0.00000000000000
681980.28562495904000
242986.82468080934000
