0.00000000000000
0.10000000000000
0.10000000000000
-0.00000000000000
681966.28562495904000
244074.82468080934000
