0.00000000000000
0.10000000000000
0.10000000000000
-0.00000000000000
681977.28562495904000
245874.82468080934000
