0.00000000000000
0.10000000000000
0.10000000000000
-0.00000000000000
681978.28562495904000
249060.82468080934000
