0.00000000000000
0.10000000000000
0.10000000000000
-0.00000000000000
681961.28562495904000
252925.82468080934000
