-0.00000000000000
-0.10000000000000
-0.10000000000000
0.00000000000000
682791.71437504096000
230869.17531919066000
