-0.00000000000000
-0.10000000000000
-0.10000000000000
0.00000000000000
682808.71437504096000
231992.17531919066000
