-0.00000000000000
-0.10000000000000
-0.10000000000000
0.00000000000000
682803.71437504096000
242918.17531919066000
