-0.00000000000000
-0.10000000000000
-0.10000000000000
0.00000000000000
682811.71437504096000
244434.17531919066000
