-0.00000000000000
-0.10000000000000
-0.10000000000000
0.00000000000000
682809.71437504096000
250417.17531919066000
