-0.00000000000000
-0.10000000000000
-0.10000000000000
0.00000000000000
682793.71437504096000
251710.17531919066000
