-0.00000000000000
-0.10000000000000
-0.10000000000000
0.00000000000000
682796.71437504096000
253165.17531919066000
