0.00000000000000
0.10000000000000
0.10000000000000
-0.00000000000000
679782.28562495904000
230718.82468080934000
