0.00000000000000
0.10000000000000
0.10000000000000
-0.00000000000000
679770.28562495904000
232842.82468080934000
