-0.00000000000000
-0.10000000000000
-0.10000000000000
0.00000000000000
681715.71437504096000
237347.17531919066000
