-0.00000000000000
-0.10000000000000
-0.10000000000000
0.00000000000000
681711.71437504096000
238898.17531919066000
