-0.00000000000000
-0.10000000000000
-0.10000000000000
0.00000000000000
681698.71437504096000
240586.17531919066000
