-0.00000000000000
-0.10000000000000
-0.10000000000000
0.00000000000000
681703.71437504096000
241823.17531919066000
